BEGIN:VCALENDAR
VERSION:2.0
PRODID:-//Our Lady Of Sorrows - ECPv6.15.12.2//NONSGML v1.0//EN
CALSCALE:GREGORIAN
METHOD:PUBLISH
X-ORIGINAL-URL:https://ourladyofsorrows.us
X-WR-CALDESC:Events for Our Lady Of Sorrows
REFRESH-INTERVAL;VALUE=DURATION:PT1H
X-Robots-Tag:noindex
X-PUBLISHED-TTL:PT1H
BEGIN:VTIMEZONE
TZID:America/New_York
BEGIN:DAYLIGHT
TZOFFSETFROM:-0500
TZOFFSETTO:-0400
TZNAME:EDT
DTSTART:20240310T070000
END:DAYLIGHT
BEGIN:STANDARD
TZOFFSETFROM:-0400
TZOFFSETTO:-0500
TZNAME:EST
DTSTART:20241103T060000
END:STANDARD
BEGIN:DAYLIGHT
TZOFFSETFROM:-0500
TZOFFSETTO:-0400
TZNAME:EDT
DTSTART:20250309T070000
END:DAYLIGHT
BEGIN:STANDARD
TZOFFSETFROM:-0400
TZOFFSETTO:-0500
TZNAME:EST
DTSTART:20251102T060000
END:STANDARD
BEGIN:DAYLIGHT
TZOFFSETFROM:-0500
TZOFFSETTO:-0400
TZNAME:EDT
DTSTART:20260308T070000
END:DAYLIGHT
BEGIN:STANDARD
TZOFFSETFROM:-0400
TZOFFSETTO:-0500
TZNAME:EST
DTSTART:20261101T060000
END:STANDARD
END:VTIMEZONE
BEGIN:VEVENT
DTSTART;TZID=America/New_York:20251122T090000
DTEND;TZID=America/New_York:20251122T150000
DTSTAMP:20260424T125439
CREATED:20251025T134710Z
LAST-MODIFIED:20251025T134947Z
UID:5621-1763802000-1763823600@ourladyofsorrows.us
SUMMARY:Fall Craft Show
DESCRIPTION:Fall Art\, Antique & CRAFT SHOW \n\nNovember 22\, 2025\n9:00 am- 3:00 pm \n  \nTables are available to rent:\nTable Sizes: 6’-$35 8’-$40\nElectric add $5.00 \nTables are reserved with receipt of payment.\nApplications are available at the parish office \nFor more information please call Joan Corson\n(609) 513-7465 or email: nvcorson@yahoo.com
URL:https://ourladyofsorrows.us/event/fall-craft-show/
ORGANIZER;CN="Joan Corson":MAILTO:nvcorson@yahoo.com
END:VEVENT
BEGIN:VEVENT
DTSTART;TZID=America/New_York:20251115T183000
DTEND;TZID=America/New_York:20251115T213000
DTSTAMP:20260424T125439
CREATED:20251025T135946Z
LAST-MODIFIED:20251025T140039Z
UID:5625-1763231400-1763242200@ourladyofsorrows.us
SUMMARY:750 Raffle
DESCRIPTION:750 CLUB BEEF ‘n BEER\nPLEASE TELL YOUR FAMILY\nAND FRIENDS ABOUT EVENT! \nTickets On Sale Now!! \nSAVE THE DATE:\nSaturday\, November 15th\nTICKETS – $40 per ticket. \nThe party begins at 6:30 pm –\nDinner at 8:00 pm-Raffle Drawing at 9 pm \nFirst 250 tickets sold will be eligible for a seat\nat the Beef’n Beer. Maximum capacity is 250! \nMusic\, Dancing and Door Prizes.\nYou do not have to be present to win. \n750 Flyers have been mailed!\nGrand Prize $10\,000.00\n2nd Prize $1\,500.00\n3rd Prize $1\,500.00\n4th Prize $500.00\n5th Prize $500.00\n6th Prize $500.00\n7th Prize $500.00 \nWe need DESSERTS! \nPlease call the Parish\nOffice at (609) 927-1154 and give us your name\, telephone number and what you will be bringing the evening of Nov. 15th. \nThanks so much!
URL:https://ourladyofsorrows.us/event/750-raffle/
END:VEVENT
BEGIN:VEVENT
DTSTART;TZID=America/New_York:20251114T100000
DTEND;TZID=America/New_York:20251114T200000
DTSTAMP:20260424T125439
CREATED:20251114T134019Z
LAST-MODIFIED:20251114T134019Z
UID:5677-1763114400-1763150400@ourladyofsorrows.us
SUMMARY:Christmas Tree Sale
DESCRIPTION:Behind OLS Church\nSat.& Sun.10am-8pm\nMondays-Fridays\n4pm-8pm
URL:https://ourladyofsorrows.us/event/christmas-tree-sale/
END:VEVENT
BEGIN:VEVENT
DTSTART;TZID=America/New_York:20251025T080000
DTEND;TZID=America/New_York:20251026T090000
DTSTAMP:20260424T125439
CREATED:20251025T134254Z
LAST-MODIFIED:20251025T134457Z
UID:5619-1761379200-1761469200@ourladyofsorrows.us
SUMMARY:Bake Sale
DESCRIPTION:  \nBake Sale Fundraiser\nOctober 25th & October 26th \nAfter all the weekend Masses of October 25th & 26th\,\nwe will be hosting a Bake Sale in the vestibule of the\nchurch. \nWe need everyone’s help in order for the Fundraiser\nto be a success. Please donate your favorite dessert. \nThank you for your support!!
URL:https://ourladyofsorrows.us/event/bake-sale/
END:VEVENT
END:VCALENDAR