BEGIN:VCALENDAR
VERSION:2.0
PRODID:-//Our Lady Of Sorrows - ECPv6.15.12.2//NONSGML v1.0//EN
CALSCALE:GREGORIAN
METHOD:PUBLISH
X-WR-CALNAME:Our Lady Of Sorrows
X-ORIGINAL-URL:https://ourladyofsorrows.us
X-WR-CALDESC:Events for Our Lady Of Sorrows
REFRESH-INTERVAL;VALUE=DURATION:PT1H
X-Robots-Tag:noindex
X-PUBLISHED-TTL:PT1H
BEGIN:VTIMEZONE
TZID:America/New_York
BEGIN:DAYLIGHT
TZOFFSETFROM:-0500
TZOFFSETTO:-0400
TZNAME:EDT
DTSTART:20240310T070000
END:DAYLIGHT
BEGIN:STANDARD
TZOFFSETFROM:-0400
TZOFFSETTO:-0500
TZNAME:EST
DTSTART:20241103T060000
END:STANDARD
BEGIN:DAYLIGHT
TZOFFSETFROM:-0500
TZOFFSETTO:-0400
TZNAME:EDT
DTSTART:20250309T070000
END:DAYLIGHT
BEGIN:STANDARD
TZOFFSETFROM:-0400
TZOFFSETTO:-0500
TZNAME:EST
DTSTART:20251102T060000
END:STANDARD
BEGIN:DAYLIGHT
TZOFFSETFROM:-0500
TZOFFSETTO:-0400
TZNAME:EDT
DTSTART:20260308T070000
END:DAYLIGHT
BEGIN:STANDARD
TZOFFSETFROM:-0400
TZOFFSETTO:-0500
TZNAME:EST
DTSTART:20261101T060000
END:STANDARD
BEGIN:DAYLIGHT
TZOFFSETFROM:-0500
TZOFFSETTO:-0400
TZNAME:EDT
DTSTART:20270314T070000
END:DAYLIGHT
BEGIN:STANDARD
TZOFFSETFROM:-0400
TZOFFSETTO:-0500
TZNAME:EST
DTSTART:20271107T060000
END:STANDARD
END:VTIMEZONE
BEGIN:VEVENT
DTSTART;TZID=America/New_York:20260411T090000
DTEND;TZID=America/New_York:20260411T150000
DTSTAMP:20260424T112707
CREATED:20260205T142557Z
LAST-MODIFIED:20260205T142631Z
UID:5805-1775898000-1775919600@ourladyofsorrows.us
SUMMARY:Spring Indoor Fine Art\, Antique and Craft Show
DESCRIPTION:
URL:https://ourladyofsorrows.us/event/5805/
END:VEVENT
BEGIN:VEVENT
DTSTART;TZID=America/New_York:20260322T100000
DTEND;TZID=America/New_York:20260322T110000
DTSTAMP:20260424T112707
CREATED:20260227T132654Z
LAST-MODIFIED:20260227T132654Z
UID:5851-1774173600-1774177200@ourladyofsorrows.us
SUMMARY:Confirmation
DESCRIPTION:Confirmation is to be celebrated by\nBishop Joseph A. Williams\non Sunday\, March 22\, 2026 during the\n10:00 a.m. Mass
URL:https://ourladyofsorrows.us/event/confirmation/
END:VEVENT
BEGIN:VEVENT
DTSTART;TZID=America/New_York:20260321T163000
DTEND;TZID=America/New_York:20260321T183000
DTSTAMP:20260424T112707
CREATED:20260222T155027Z
LAST-MODIFIED:20260222T155106Z
UID:5845-1774110600-1774117800@ourladyofsorrows.us
SUMMARY:OUR LADY OF SORROWS  ST. PATRICK’S DAY PARTY & AUCTION
DESCRIPTION:OUR LADY OF SORROWS\nST. PATRICK’S DAY PARTY & AUCTION\nSATURDAY\,\nMARCH 21\, 2026\nDOORS OPEN AT 4:30PM\nFAMILIES I NVITED\n(HALL SEATING CAPACITY 250)\n$10.00 ENTRANCE FEE\n(includes slice of pizza\, chips & beverage)\n Doors Open: 4:30 p.m.\nPizza Served 5:30 p.m.\nDrawing 6:30 p.m.  \nWe are in need of raffle prizes to make our\nSt. Patrick’s Day Auction a great success. If you\ncan donate any NEW unused items that are just\nsitting around your house taking up space\, it would be\na great help to us. Don’t forget those unopened\nChristmas gifts that you just don’t know what to do\nwith! You can also purchase a gift basket that we can\nauction off\, or donate a gift card for $5\, $10\, $15\, $20\nor more. If you own a business\, please consider\ndonating a gift basket or a gift for the Auction. Please\nbring your donations to the parish office by Monday\,\nMarch 2nd. Thank you for supporting this\nfundraiser for our parish.\nTICKETS FOR THE SILENT AUCTION ARE:\n 1 sheet = 26 tickets\n1 sheet $10.00 3 sheets $20.00\n7 sheets $30.00 11 sheets $40.00\n15 sheets $50.00 19 sheets $60.00\nDessert platters of finger desserts\, cookies or\ncupcakes are needed. We will be accepting desserts on\nSaturday\, March 21st at 10 am in the Hall.\n**We need large empty coffee cans for ticket stubs.\nPlease drop them off at the Parish Office during the week.\nThank you for your help.
URL:https://ourladyofsorrows.us/event/our-lady-of-sorrows-st-patricks-day-party-auction/
END:VEVENT
BEGIN:VEVENT
DTSTART;TZID=America/New_York:20260131T170000
DTEND;TZID=America/New_York:20260131T190000
DTSTAMP:20260424T112707
CREATED:20251226T170935Z
LAST-MODIFIED:20251226T170935Z
UID:5757-1769878800-1769886000@ourladyofsorrows.us
SUMMARY:All you can eat pasta dinner
DESCRIPTION:The Knights of Columbus will be hosting an all you can eat pasta dinner on Saturday January 31st from 5:00 – 7:00 p.m. at Our Lady of Sorrows Hall. \nPrices are $15 adults.\nChildren 12 years and under eat for free. \nYour price of admission includes: Homemade Meatballs\, Sausage\, Spaghetti\, Caesar Salad\, Bread and desserts.
URL:https://ourladyofsorrows.us/event/all-you-can-eat-pasta-dinner/
END:VEVENT
BEGIN:VEVENT
DTSTART;TZID=America/New_York:20251216T193000
DTEND;TZID=America/New_York:20251216T203000
DTSTAMP:20260424T112707
CREATED:20251114T150854Z
LAST-MODIFIED:20251114T151052Z
UID:5685-1765913400-1765917000@ourladyofsorrows.us
SUMMARY:Christmas Concert
DESCRIPTION:Immediately following\n6:30pm Mass
URL:https://ourladyofsorrows.us/event/christmas-concert/
END:VEVENT
BEGIN:VEVENT
DTSTART;TZID=America/New_York:20251213T070000
DTEND;TZID=America/New_York:20251213T120000
DTSTAMP:20260424T112707
CREATED:20251031T190014Z
LAST-MODIFIED:20251031T190105Z
UID:5638-1765609200-1765627200@ourladyofsorrows.us
SUMMARY:Retreat
DESCRIPTION:Fr. Lobo will be conducting a retreat on Saturday\, December 13th\, in the Our Lady of Sorrows Hall from\n7am- 12 noon for us to better prepare for the coming of the Lord. Christmas is one of the biggest celebrations\nwe have on our calendars. Over the years it has become more commercial than spiritual. Here is an\nopportunity for you to take part in a better spiritual preparation for the coming of the Lord. It is a more a\nspiritual preparation than a retreat.\nPlease consider taking part in this spiritual preparation to make your Christmas celebration a holy and blessed\none this year. There will be a signup sheet at the back of the church for you to sign up.\nPlease sign up only if you’re able to attend the full retreat without any exception.
URL:https://ourladyofsorrows.us/event/5638/
END:VEVENT
BEGIN:VEVENT
DTSTART;TZID=America/New_York:20251208T110000
DTEND;TZID=America/New_York:20251208T183000
DTSTAMP:20260424T112707
CREATED:20251128T154601Z
LAST-MODIFIED:20251128T154601Z
UID:5716-1765191600-1765218600@ourladyofsorrows.us
SUMMARY:Feast of Immaculate  Conception
DESCRIPTION:Holy Day of Obligation\nMasses 11 am & 6:30 pm
URL:https://ourladyofsorrows.us/event/feast-of-immaculate-conception-2/
END:VEVENT
BEGIN:VEVENT
DTSTART;VALUE=DATE:20251208
DTEND;VALUE=DATE:20251209
DTSTAMP:20260424T112707
CREATED:20251114T150800Z
LAST-MODIFIED:20251114T150800Z
UID:5683-1765152000-1765238399@ourladyofsorrows.us
SUMMARY:Feast of Immaculate  Conception
DESCRIPTION:Holy Day of Obligation
URL:https://ourladyofsorrows.us/event/feast-of-immaculate-conception/
END:VEVENT
BEGIN:VEVENT
DTSTART;TZID=America/New_York:20251207T100000
DTEND;TZID=America/New_York:20251207T120000
DTSTAMP:20260424T112707
CREATED:20251114T134236Z
LAST-MODIFIED:20251114T134236Z
UID:5681-1765101600-1765108800@ourladyofsorrows.us
SUMMARY:Santa Secret Shop
DESCRIPTION:After 8am Mass-Noon
URL:https://ourladyofsorrows.us/event/santa-secret-shop/
END:VEVENT
BEGIN:VEVENT
DTSTART;TZID=America/New_York:20251207T100000
DTEND;TZID=America/New_York:20251207T120000
DTSTAMP:20260424T112707
CREATED:20251114T134139Z
LAST-MODIFIED:20251114T134139Z
UID:5679-1765101600-1765108800@ourladyofsorrows.us
SUMMARY:Breakfast w/Santa
DESCRIPTION:After 8am Mass
URL:https://ourladyofsorrows.us/event/breakfast-w-santa/
END:VEVENT
BEGIN:VEVENT
DTSTART;TZID=America/New_York:20251122T090000
DTEND;TZID=America/New_York:20251122T150000
DTSTAMP:20260424T112707
CREATED:20251025T134710Z
LAST-MODIFIED:20251025T134947Z
UID:5621-1763802000-1763823600@ourladyofsorrows.us
SUMMARY:Fall Craft Show
DESCRIPTION:Fall Art\, Antique & CRAFT SHOW \n\nNovember 22\, 2025\n9:00 am- 3:00 pm \n  \nTables are available to rent:\nTable Sizes: 6’-$35 8’-$40\nElectric add $5.00 \nTables are reserved with receipt of payment.\nApplications are available at the parish office \nFor more information please call Joan Corson\n(609) 513-7465 or email: nvcorson@yahoo.com
URL:https://ourladyofsorrows.us/event/fall-craft-show/
ORGANIZER;CN="Joan Corson":MAILTO:nvcorson@yahoo.com
END:VEVENT
BEGIN:VEVENT
DTSTART;TZID=America/New_York:20251115T183000
DTEND;TZID=America/New_York:20251115T213000
DTSTAMP:20260424T112707
CREATED:20251025T135946Z
LAST-MODIFIED:20251025T140039Z
UID:5625-1763231400-1763242200@ourladyofsorrows.us
SUMMARY:750 Raffle
DESCRIPTION:750 CLUB BEEF ‘n BEER\nPLEASE TELL YOUR FAMILY\nAND FRIENDS ABOUT EVENT! \nTickets On Sale Now!! \nSAVE THE DATE:\nSaturday\, November 15th\nTICKETS – $40 per ticket. \nThe party begins at 6:30 pm –\nDinner at 8:00 pm-Raffle Drawing at 9 pm \nFirst 250 tickets sold will be eligible for a seat\nat the Beef’n Beer. Maximum capacity is 250! \nMusic\, Dancing and Door Prizes.\nYou do not have to be present to win. \n750 Flyers have been mailed!\nGrand Prize $10\,000.00\n2nd Prize $1\,500.00\n3rd Prize $1\,500.00\n4th Prize $500.00\n5th Prize $500.00\n6th Prize $500.00\n7th Prize $500.00 \nWe need DESSERTS! \nPlease call the Parish\nOffice at (609) 927-1154 and give us your name\, telephone number and what you will be bringing the evening of Nov. 15th. \nThanks so much!
URL:https://ourladyofsorrows.us/event/750-raffle/
END:VEVENT
BEGIN:VEVENT
DTSTART;TZID=America/New_York:20251114T100000
DTEND;TZID=America/New_York:20251114T200000
DTSTAMP:20260424T112707
CREATED:20251114T134019Z
LAST-MODIFIED:20251114T134019Z
UID:5677-1763114400-1763150400@ourladyofsorrows.us
SUMMARY:Christmas Tree Sale
DESCRIPTION:Behind OLS Church\nSat.& Sun.10am-8pm\nMondays-Fridays\n4pm-8pm
URL:https://ourladyofsorrows.us/event/christmas-tree-sale/
END:VEVENT
BEGIN:VEVENT
DTSTART;TZID=America/New_York:20251025T080000
DTEND;TZID=America/New_York:20251026T090000
DTSTAMP:20260424T112707
CREATED:20251025T134254Z
LAST-MODIFIED:20251025T134457Z
UID:5619-1761379200-1761469200@ourladyofsorrows.us
SUMMARY:Bake Sale
DESCRIPTION:  \nBake Sale Fundraiser\nOctober 25th & October 26th \nAfter all the weekend Masses of October 25th & 26th\,\nwe will be hosting a Bake Sale in the vestibule of the\nchurch. \nWe need everyone’s help in order for the Fundraiser\nto be a success. Please donate your favorite dessert. \nThank you for your support!!
URL:https://ourladyofsorrows.us/event/bake-sale/
END:VEVENT
END:VCALENDAR